BEGIN:VCALENDAR
VERSION:2.0
PRODID:-//Defiantonesllc - ECPv6.10.1.1//NONSGML v1.0//EN
CALSCALE:GREGORIAN
METHOD:PUBLISH
X-WR-CALNAME:Defiantonesllc
X-ORIGINAL-URL:https://defiantonesllc.com
X-WR-CALDESC:Events for Defiantonesllc
REFRESH-INTERVAL;VALUE=DURATION:PT1H
X-Robots-Tag:noindex
X-PUBLISHED-TTL:PT1H
BEGIN:VTIMEZONE
TZID:UTC
BEGIN:STANDARD
TZOFFSETFROM:+0000
TZOFFSETTO:+0000
TZNAME:UTC
DTSTART:20240101T000000
END:STANDARD
END:VTIMEZONE
BEGIN:VEVENT
DTSTART;VALUE=DATE:20240611
DTEND;VALUE=DATE:20240620
DTSTAMP:20260422T023023
CREATED:20241214T151837Z
LAST-MODIFIED:20250218T191852Z
UID:18240-1718064000-1718841599@defiantonesllc.com
SUMMARY:Laconia Motorcycle Week
DESCRIPTION:Happening this summer is Laconia Motorcycle Week\, a World Class Rally that’s also the World’s Oldest Motorcycle Rally. Laconia celebrates its 99th year this 2022\, and the rides through the State of New Hampshire are as beautiful and scenic as they’ve been the past century. With gypsy rides\, live music\, a number of events and more to look forward to\, Laconia expects around 400\,000 attendees for a week of pure joy and entertainment.
URL:https://defiantonesllc.com/event/laconia-motorcycle-week/
LOCATION:Laconia Motorcycle Week\, Lake Winnipesaukee\, New Hampshire\, Lake Winnipesaukee\,\, NH\, United States
ATTACH;FMTTYPE=image/jpeg:https://defiantonesllc.com/wp-content/uploads/2024/12/Event-Post-Biker-1.jpg
END:VEVENT
END:VCALENDAR